BEGIN:VCALENDAR
VERSION:2.0
PRODID:-//J.A.N. - ECPv6.15.20//NONSGML v1.0//EN
CALSCALE:GREGORIAN
METHOD:PUBLISH
X-WR-CALNAME:J.A.N.
X-ORIGINAL-URL:https://janhoekstra.frl
X-WR-CALDESC:Evenementen voor J.A.N.
REFRESH-INTERVAL;VALUE=DURATION:PT1H
X-Robots-Tag:noindex
X-PUBLISHED-TTL:PT1H
BEGIN:VTIMEZONE
TZID:Europe/Amsterdam
BEGIN:DAYLIGHT
TZOFFSETFROM:+0100
TZOFFSETTO:+0200
TZNAME:CEST
DTSTART:20220327T010000
END:DAYLIGHT
BEGIN:STANDARD
TZOFFSETFROM:+0200
TZOFFSETTO:+0100
TZNAME:CET
DTSTART:20221030T010000
END:STANDARD
BEGIN:DAYLIGHT
TZOFFSETFROM:+0100
TZOFFSETTO:+0200
TZNAME:CEST
DTSTART:20230326T010000
END:DAYLIGHT
BEGIN:STANDARD
TZOFFSETFROM:+0200
TZOFFSETTO:+0100
TZNAME:CET
DTSTART:20231029T010000
END:STANDARD
BEGIN:DAYLIGHT
TZOFFSETFROM:+0100
TZOFFSETTO:+0200
TZNAME:CEST
DTSTART:20240331T010000
END:DAYLIGHT
BEGIN:STANDARD
TZOFFSETFROM:+0200
TZOFFSETTO:+0100
TZNAME:CET
DTSTART:20241027T010000
END:STANDARD
END:VTIMEZONE
BEGIN:VEVENT
DTSTART;TZID=Europe/Amsterdam:20231029T150000
DTEND;TZID=Europe/Amsterdam:20231029T170000
DTSTAMP:20260425T172056
CREATED:20231016T092037Z
LAST-MODIFIED:20231016T160445Z
UID:484-1698591600-1698598800@janhoekstra.frl
SUMMARY:Fryske ferskes yn Terbandster tjerke
DESCRIPTION:Op snein 29 oktober spylje Grytz & Grize\, Bokke Rypma en ik ús programma Fryske ferskes yn de Terbandster tsjerke.\nKaarten kinne jo hjir reserveare.
URL:https://janhoekstra.frl/event/fryske-ferskes-yn-terbandster-tjerke/
LOCATION:Terbandster tjerke\, Pastorielaan 12\, Terband\, Friesland\, 8449 BE\, Nederland
CATEGORIES:Fryske Ferskes,Grytz & Grize & Bokke
END:VEVENT
BEGIN:VEVENT
DTSTART;TZID=Europe/Amsterdam:20231017T140000
DTEND;TZID=Europe/Amsterdam:20231017T160000
DTSTAMP:20260425T172056
CREATED:20231010T081109Z
LAST-MODIFIED:20231016T160923Z
UID:432-1697551200-1697558400@janhoekstra.frl
SUMMARY:Fryske ferskes yn 't Hearrenfean
DESCRIPTION:Op tiisdei 17 oktober spylje Grytz & Grize\, Bokke Rypma en ik ús programma Fryske ferskes yn “Hof van de Koning” yn ’t Hearrenfean.
URL:https://janhoekstra.frl/event/fryske-ferskes-yn-t-hearrenfean/
LOCATION:Hof van de Koning – it Hearrenfean\, Prinsenweg 1\, Heerenveen\, Friesland\, 8443 DN\, Nederland
CATEGORIES:Fryske Ferskes,Grytz & Grize & Bokke
END:VEVENT
END:VCALENDAR