BEGIN:VCALENDAR
VERSION:2.0
PRODID:-//J.A.N. - ECPv6.15.20//NONSGML v1.0//EN
CALSCALE:GREGORIAN
METHOD:PUBLISH
X-WR-CALNAME:J.A.N.
X-ORIGINAL-URL:https://janhoekstra.frl
X-WR-CALDESC:Evenementen voor J.A.N.
REFRESH-INTERVAL;VALUE=DURATION:PT1H
X-Robots-Tag:noindex
X-PUBLISHED-TTL:PT1H
BEGIN:VTIMEZONE
TZID:Europe/Amsterdam
BEGIN:DAYLIGHT
TZOFFSETFROM:+0100
TZOFFSETTO:+0200
TZNAME:CEST
DTSTART:20190331T010000
END:DAYLIGHT
BEGIN:STANDARD
TZOFFSETFROM:+0200
TZOFFSETTO:+0100
TZNAME:CET
DTSTART:20191027T010000
END:STANDARD
BEGIN:DAYLIGHT
TZOFFSETFROM:+0100
TZOFFSETTO:+0200
TZNAME:CEST
DTSTART:20200329T010000
END:DAYLIGHT
BEGIN:STANDARD
TZOFFSETFROM:+0200
TZOFFSETTO:+0100
TZNAME:CET
DTSTART:20201025T010000
END:STANDARD
BEGIN:DAYLIGHT
TZOFFSETFROM:+0100
TZOFFSETTO:+0200
TZNAME:CEST
DTSTART:20210328T010000
END:DAYLIGHT
BEGIN:STANDARD
TZOFFSETFROM:+0200
TZOFFSETTO:+0100
TZNAME:CET
DTSTART:20211031T010000
END:STANDARD
BEGIN:DAYLIGHT
TZOFFSETFROM:+0100
TZOFFSETTO:+0200
TZNAME:CEST
DTSTART:20220327T010000
END:DAYLIGHT
BEGIN:STANDARD
TZOFFSETFROM:+0200
TZOFFSETTO:+0100
TZNAME:CET
DTSTART:20221030T010000
END:STANDARD
BEGIN:DAYLIGHT
TZOFFSETFROM:+0100
TZOFFSETTO:+0200
TZNAME:CEST
DTSTART:20230326T010000
END:DAYLIGHT
BEGIN:STANDARD
TZOFFSETFROM:+0200
TZOFFSETTO:+0100
TZNAME:CET
DTSTART:20231029T010000
END:STANDARD
BEGIN:DAYLIGHT
TZOFFSETFROM:+0100
TZOFFSETTO:+0200
TZNAME:CEST
DTSTART:20240331T010000
END:DAYLIGHT
BEGIN:STANDARD
TZOFFSETFROM:+0200
TZOFFSETTO:+0100
TZNAME:CET
DTSTART:20241027T010000
END:STANDARD
BEGIN:DAYLIGHT
TZOFFSETFROM:+0100
TZOFFSETTO:+0200
TZNAME:CEST
DTSTART:20250330T010000
END:DAYLIGHT
BEGIN:STANDARD
TZOFFSETFROM:+0200
TZOFFSETTO:+0100
TZNAME:CET
DTSTART:20251026T010000
END:STANDARD
BEGIN:DAYLIGHT
TZOFFSETFROM:+0100
TZOFFSETTO:+0200
TZNAME:CEST
DTSTART:20260329T010000
END:DAYLIGHT
BEGIN:STANDARD
TZOFFSETFROM:+0200
TZOFFSETTO:+0100
TZNAME:CET
DTSTART:20261025T010000
END:STANDARD
END:VTIMEZONE
BEGIN:VEVENT
DTSTART;TZID=Europe/Amsterdam:20250913T153500
DTEND;TZID=Europe/Amsterdam:20250913T162500
DTSTAMP:20260425T131319
CREATED:20250902T122655Z
LAST-MODIFIED:20250902T122827Z
UID:5418-1757777700-1757780700@janhoekstra.frl
SUMMARY:J.A.N. op UITfestival Warkum 2025
DESCRIPTION:Sneontemidje 13 septimber spylet J.A.N. op it UITfestival yn Warkum.\nFanôf 15:35 oant en mei 16:25 op ‘e merk. \n 
URL:https://janhoekstra.frl/event/j-a-n-op-uitfestival-warkum-2025/
LOCATION:Merk\, Merk\, Workum\, Friesland\, Netherlands
END:VEVENT
BEGIN:VEVENT
DTSTART;TZID=Europe/Amsterdam:20250415T194500
DTEND;TZID=Europe/Amsterdam:20250415T220000
DTSTAMP:20260425T131319
CREATED:20250415T041246Z
LAST-MODIFIED:20250415T041246Z
UID:4750-1744746300-1744754400@janhoekstra.frl
SUMMARY:Vrouwen van nu
DESCRIPTION:Tiisdeitejûn 15 april spylet J.A.N. foar de “Vrouwen van nu” yn Warkum.
URL:https://janhoekstra.frl/event/vrouwen-van-nu/
LOCATION:Kultuerhús de Klameare\, Merk 1 (ingang Begine)\, Workum\, Friesland\, 8711CL\, Nederland
END:VEVENT
BEGIN:VEVENT
DTSTART;TZID=Europe/Amsterdam:20240629T150000
DTEND;TZID=Europe/Amsterdam:20240629T200000
DTSTAMP:20260425T131319
CREATED:20240225T115115Z
LAST-MODIFIED:20240225T115445Z
UID:1247-1719673200-1719691200@janhoekstra.frl
SUMMARY:J.A.N. op Frysk Folk Festival (besletten)
DESCRIPTION:Myn sweager en skoansuster binne dit jier 13 jier troud en hâlde dêrfoar in grut besletten festival feest by ús op it hiem. \nIk ha de eare om hjir ek te spyljen mei myn band.\nMar spylje dêr dus ek mei Grytz & Grize & Bokke
URL:https://janhoekstra.frl/event/j-a-n-op-frysk-folk-festival-besletten/
LOCATION:Friesland
END:VEVENT
BEGIN:VEVENT
DTSTART;TZID=Europe/Amsterdam:20240310T150000
DTEND;TZID=Europe/Amsterdam:20240310T173000
DTSTAMP:20260425T131319
CREATED:20240116T194315Z
LAST-MODIFIED:20240306T044136Z
UID:601-1710082800-1710091800@janhoekstra.frl
SUMMARY:Album presentatie "Holle mei ferhalen"
DESCRIPTION:Op sneintemiddei 10 maart sil ik myn album “Holle mei ferhalen” presinteare yn Kultuerhús de Klamear yn Warkum. \nFanôf 15:00 gean de doarren iepen en om 15:30 geane we los.\nDe tagong is fergees. \nDizze midje wurd mogelik makke troch: \n\nTRES (myn wurkjouer)\nAA Fysio (bedriuw fan myn neef Auke)\nKultuerhús Klameare
URL:https://janhoekstra.frl/event/album-presentatie-holle-mei-ferhalen/
LOCATION:Kultuerhús de Klameare\, Merk 1 (ingang Begine)\, Workum\, Friesland\, 8711CL\, Nederland
END:VEVENT
BEGIN:VEVENT
DTSTART;TZID=Europe/Amsterdam:20240128T163000
DTEND;TZID=Europe/Amsterdam:20240128T183000
DTSTAMP:20260425T131319
CREATED:20240112T083436Z
LAST-MODIFIED:20240112T083436Z
UID:544-1706459400-1706466600@janhoekstra.frl
SUMMARY:Fryske ferskes & covers yn Warkum
DESCRIPTION:Sneintemidje 28 janewaris spylje Grytz & Grize & J.A.N. in lytse greep út hun Fryske ferskes programma mei hjir en dêr in pear covers dy ’t eltsenien wol kin. \nWy begjinne om 16:30 te spyljen en hâlde rûn 18:30 wêr op.\nNet stinne\, mar dêr hinne tocht ik!
URL:https://janhoekstra.frl/event/fryske-ferskes-covers-yn-warkum/
LOCATION:Kultuerhús de Klameare\, Merk 1 (ingang Begine)\, Workum\, Friesland\, 8711CL\, Nederland
END:VEVENT
BEGIN:VEVENT
DTSTART;TZID=Europe/Amsterdam:20240119T140000
DTEND;TZID=Europe/Amsterdam:20240119T170000
DTSTAMP:20260425T131319
CREATED:20231110T081228Z
LAST-MODIFIED:20231110T082132Z
UID:501-1705672800-1705683600@janhoekstra.frl
SUMMARY:Fryske ferskes yn Swol (Zwolle)
DESCRIPTION:Op freedtemidje 19 janewaris 2024 spylje Grytz & Grize\, Bokke Rypma en ik ús programma Fryske ferskes foar de Frysk krite fan Swol (Zwolle).
URL:https://janhoekstra.frl/event/fryske-ferskes-yn-swol-zwolle/
LOCATION:De Weijenbelt\, Campherbeeklaan 82\, Zwolle\, Overrijsel\, 8024 BZ\, Nederland
END:VEVENT
BEGIN:VEVENT
DTSTART;TZID=Europe/Amsterdam:20231117T193000
DTEND;TZID=Europe/Amsterdam:20231117T210000
DTSTAMP:20260425T131319
CREATED:20231010T080422Z
LAST-MODIFIED:20231010T080422Z
UID:427-1700249400-1700254800@janhoekstra.frl
SUMMARY:Ferhalejûn Fryslân
DESCRIPTION:Freedtejûn 17 novimber wurd dêr op ferskattene plakken yn Fryslân in ferhalejûn organiseare. Normaliter is dit ek altyd yn Warkum. Mar dit jier wike se út nei Nijhuzum om dêr op in oantal lokaasjes ferhalen te bringen. \nSe ha my ek frege om op ien fan de lokaasjes myn ferskes te spyljen.\nIt tema fan dizze jûn is “Mijn reis”\, oftewol “Myn reis”.
URL:https://janhoekstra.frl/event/ferhalejun-fryslan/
LOCATION:Nijhuzum\, Nijhuizum\, Friesland\, Nederland
END:VEVENT
BEGIN:VEVENT
DTSTART;TZID=Europe/Amsterdam:20231110T200000
DTEND;TZID=Europe/Amsterdam:20231110T223000
DTSTAMP:20260425T131319
CREATED:20231010T081302Z
LAST-MODIFIED:20231016T160534Z
UID:431-1699646400-1699655400@janhoekstra.frl
SUMMARY:Fryske ferskes yn Tersoal
DESCRIPTION:Op freed 10 novimber spylje Grytz & Grize\, Bokke Rypma en ik ús programma Fryske ferskes yn Tersoal.
URL:https://janhoekstra.frl/event/431/
LOCATION:Tersoal
END:VEVENT
BEGIN:VEVENT
DTSTART;TZID=Europe/Amsterdam:20231029T150000
DTEND;TZID=Europe/Amsterdam:20231029T170000
DTSTAMP:20260425T131319
CREATED:20231016T092037Z
LAST-MODIFIED:20231016T160445Z
UID:484-1698591600-1698598800@janhoekstra.frl
SUMMARY:Fryske ferskes yn Terbandster tjerke
DESCRIPTION:Op snein 29 oktober spylje Grytz & Grize\, Bokke Rypma en ik ús programma Fryske ferskes yn de Terbandster tsjerke.\nKaarten kinne jo hjir reserveare.
URL:https://janhoekstra.frl/event/fryske-ferskes-yn-terbandster-tjerke/
LOCATION:Terbandster tjerke\, Pastorielaan 12\, Terband\, Friesland\, 8449 BE\, Nederland
CATEGORIES:Fryske Ferskes,Grytz & Grize & Bokke
END:VEVENT
BEGIN:VEVENT
DTSTART;TZID=Europe/Amsterdam:20231017T140000
DTEND;TZID=Europe/Amsterdam:20231017T160000
DTSTAMP:20260425T131319
CREATED:20231010T081109Z
LAST-MODIFIED:20231016T160923Z
UID:432-1697551200-1697558400@janhoekstra.frl
SUMMARY:Fryske ferskes yn 't Hearrenfean
DESCRIPTION:Op tiisdei 17 oktober spylje Grytz & Grize\, Bokke Rypma en ik ús programma Fryske ferskes yn “Hof van de Koning” yn ’t Hearrenfean.
URL:https://janhoekstra.frl/event/fryske-ferskes-yn-t-hearrenfean/
LOCATION:Hof van de Koning – it Hearrenfean\, Prinsenweg 1\, Heerenveen\, Friesland\, 8443 DN\, Nederland
CATEGORIES:Fryske Ferskes,Grytz & Grize & Bokke
END:VEVENT
BEGIN:VEVENT
DTSTART;TZID=Europe/Amsterdam:20200912T110000
DTEND;TZID=Europe/Amsterdam:20200912T173000
DTSTAMP:20260425T131319
CREATED:20200827T224928Z
LAST-MODIFIED:20200827T224928Z
UID:79-1599908400-1599931800@janhoekstra.frl
SUMMARY:Uitfestival Workum
DESCRIPTION:Sneon 12 septimber spylet J.A.N. op it uitfestival yn Warkum.\nWy spylje fanôf 14:00 oant 14:30 op Podium 2.
URL:https://janhoekstra.frl/event/uitfestival-workum/
LOCATION:Podium 2 / de Harmonie / Robynz\, Workum\, Friesland\, Nederland
ORGANIZER;CN="Stichting Cultureel Nut Workum":MAILTO:info@nutworkum.nl
END:VEVENT
END:VCALENDAR